BEGIN:VCALENDAR
VERSION:2.0
PRODID:-//ChamberMaster//Event Calendar 2.0//EN
METHOD:PUBLISH
X-PUBLISHED-TTL:P3D
REFRESH-INTERVAL:P3D
CALSCALE:GREGORIAN
BEGIN:VEVENT
DTSTART:20240702T220000Z
DTEND:20240703T030000Z
X-MICROSOFT-CDO-ALLDAYEVENT:FALSE
SUMMARY:Columbus County Fireworks Celebration
DESCRIPTION:Annual Columbus County Fireworks Celebration\n\nHosted by Tabor City and organized by Tabor City Chamber of Commerce\n\nGates Open at 6:00 p.m.\n\nEntertainment begins at 6:45 p.m.\n\nFireworks Fly at 9:35 a.m.
X-ALT-DESC;FMTTYPE=text/html:&nbsp\;Annual Columbus County Fireworks Celebration<br />\nHosted by Tabor City and organized by Tabor City Chamber of Commerce<br />\nGates Open at 6:00 p.m.<br />\nEntertainment begins at 6:45 p.m.<br />\nFireworks Fly at 9:35 a.m.
LOCATION:South Columbus High School Tabor City\, NC 28463
UID:e.2482.6994
SEQUENCE:3
DTSTAMP:20260420T173701Z
URL:https://members.thecolumbuschamber.com/events/details/columbus-county-fireworks-celebration-6994
END:VEVENT

END:VCALENDAR
