BEGIN:VCALENDAR
VERSION:2.0
PRODID:-//ChamberMaster//Event Calendar 2.0//EN
METHOD:PUBLISH
X-PUBLISHED-TTL:P3D
REFRESH-INTERVAL:P3D
CALSCALE:GREGORIAN
BEGIN:VEVENT
DTSTART:20230715T120000Z
DTEND:20230715T170000Z
X-MICROSOFT-CDO-ALLDAYEVENT:FALSE
SUMMARY:Columbus County Community Farmers Market Watermelon Day
DESCRIPTION:Columbus County Community Farmers Market\n\nWatermelon Day
X-ALT-DESC;FMTTYPE=text/html:Columbus County Community Farmers Market<br />\nWatermelon Day
LOCATION:Columbus County Community Farmers Market 132 Government Complex Road Whiteville\, NC 28472
UID:e.2482.6743
SEQUENCE:3
DTSTAMP:20260421T171058Z
URL:https://members.thecolumbuschamber.com/events/details/columbus-county-community-farmers-market-watermelon-day-6743
END:VEVENT

END:VCALENDAR
