BEGIN:VCALENDAR
VERSION:2.0
PRODID:-//ChamberMaster//Event Calendar 2.0//EN
METHOD:PUBLISH
X-PUBLISHED-TTL:P3D
REFRESH-INTERVAL:P3D
CALSCALE:GREGORIAN
BEGIN:VEVENT
DTSTART:20230812T120000Z
DTEND:20230812T120000Z
X-MICROSOFT-CDO-ALLDAYEVENT:FALSE
SUMMARY:Columbus County Community Farmers Market Kid's Back to School Fun Day
DESCRIPTION:Columbus County Community Farmers Market\n\nKid's "Back to School" Fun Day & Family Health Festival
X-ALT-DESC;FMTTYPE=text/html:Columbus County Community Farmers Market<br />\nKid&#39\;s &quot\;Back to School&quot\; Fun Day &amp\; Family Health Festival
LOCATION:Farmers Market 132 Government Complex Road Whiteville\, NC 28472
UID:e.2482.6744
SEQUENCE:3
DTSTAMP:20260421T172925Z
URL:https://members.thecolumbuschamber.com/events/details/columbus-county-community-farmers-market-kid-s-back-to-school-fun-day-6744
END:VEVENT

END:VCALENDAR
