BEGIN:VCALENDAR
VERSION:2.0
PRODID:-//ChamberMaster//Event Calendar 2.0//EN
METHOD:PUBLISH
X-PUBLISHED-TTL:P3D
REFRESH-INTERVAL:P3D
CALSCALE:GREGORIAN
BEGIN:VEVENT
DTSTART:20231209T130000Z
DTEND:20231209T180000Z
X-MICROSOFT-CDO-ALLDAYEVENT:FALSE
SUMMARY:Columbus County Community Farmers Market Christmas from the Hear
DESCRIPTION:Farmers Market Christmas from the Heart
X-ALT-DESC;FMTTYPE=text/html:Farmers Market Christmas from the Heart
LOCATION:132 Government Complex Road Whiteville\, NC 28472
UID:e.2482.6748
SEQUENCE:3
DTSTAMP:20260420T001457Z
URL:https://members.thecolumbuschamber.com/events/details/columbus-county-community-farmers-market-christmas-from-the-hear-6748
END:VEVENT

END:VCALENDAR
