BEGIN:VCALENDAR
VERSION:2.0
PRODID:-//ChamberMaster//Event Calendar 2.0//EN
METHOD:PUBLISH
X-PUBLISHED-TTL:P3D
REFRESH-INTERVAL:P3D
CALSCALE:GREGORIAN
BEGIN:VEVENT
DTSTART:20231021T120000Z
DTEND:20231021T170000Z
X-MICROSOFT-CDO-ALLDAYEVENT:FALSE
SUMMARY:Columbus County Community Farmers Market
DESCRIPTION:Farmers Market Chicken Bog & BBQ Day
X-ALT-DESC;FMTTYPE=text/html:Farmers Market Chicken Bog &amp\; BBQ Day
LOCATION:132 Government Complex Road Whiteville\, NC 28472
UID:e.2482.6746
SEQUENCE:3
DTSTAMP:20260423T041202Z
URL:https://members.thecolumbuschamber.com/events/details/columbus-county-community-farmers-market-6746
END:VEVENT

END:VCALENDAR
