BEGIN:VCALENDAR
VERSION:2.0
PRODID:-//ChamberMaster//Event Calendar 2.0//EN
METHOD:PUBLISH
X-PUBLISHED-TTL:P3D
REFRESH-INTERVAL:P3D
CALSCALE:GREGORIAN
BEGIN:VEVENT
DTSTART:20231118T130000Z
DTEND:20231118T180000Z
X-MICROSOFT-CDO-ALLDAYEVENT:FALSE
SUMMARY:Columbus County Commmunity Farmers Market Collard Day
DESCRIPTION:Farmers Market Collard Day & Sweet Potato Day
X-ALT-DESC;FMTTYPE=text/html:Farmers Market Collard Day &amp\; Sweet Potato Day
LOCATION:Farmers Market 132 Government Complex Road Whiteville\, NC 28472
UID:e.2482.6747
SEQUENCE:3
DTSTAMP:20260420T000954Z
URL:https://members.thecolumbuschamber.com/events/details/columbus-county-commmunity-farmers-market-collard-day-6747
END:VEVENT

END:VCALENDAR
