BEGIN:VCALENDAR
VERSION:2.0
PRODID:-//ChamberMaster//Event Calendar 2.0//EN
METHOD:PUBLISH
X-PUBLISHED-TTL:P3D
REFRESH-INTERVAL:P3D
CALSCALE:GREGORIAN
BEGIN:VEVENT
DTSTART:20240906T230000Z
DTEND:20240907T003000Z
X-MICROSOFT-CDO-ALLDAYEVENT:FALSE
SUMMARY:Columbus County Arts Council Reception
DESCRIPTION:Columbus County Arts Council  - Exhibit Dates: Sept. 6\, 2024 - October 10\, 2024\n\nMeet the Artists - Sisters Beth Olson (Columbus County) and Cynthia Blake (Brunswick County) share their love of the arts. Please join us as we celebrate their amazing talents!\n\n\n\nGallery Hours: Tuesday - Thursday 9:00 am - 1pm and by  appointment
X-ALT-DESC;FMTTYPE=text/html:Columbus County Arts Council&nbsp\; - Exhibit Dates: Sept. 6\, 2024 - October 10\, 2024<br />\nMeet the Artists - Sisters Beth Olson (Columbus County) and Cynthia Blake (Brunswick County) share their love of the arts. Please join us as we celebrate their amazing talents!<br />\n<br />\nGallery Hours: Tuesday - Thursday 9:00 am - 1pm and by&nbsp\; appointment
LOCATION:Columbus County Arts Council 822 South Madison Street Whiteville\, NC 28472
UID:e.2482.7033
SEQUENCE:3
DTSTAMP:20260420T150849Z
URL:https://members.thecolumbuschamber.com/events/details/columbus-county-arts-council-reception-7033
END:VEVENT

END:VCALENDAR
