BEGIN:VCALENDAR
VERSION:2.0
PRODID:-//ChamberMaster//Event Calendar 2.0//EN
METHOD:PUBLISH
X-PUBLISHED-TTL:P3D
REFRESH-INTERVAL:P3D
CALSCALE:GREGORIAN
BEGIN:VEVENT
DTSTART:20231005T220000Z
DTEND:20231006T004500Z
X-MICROSOFT-CDO-ALLDAYEVENT:FALSE
SUMMARY:Columbus County Arts Council Proudly Presents
DESCRIPTION:Columbus County Arts Council proudly presents A Front Porch Evening with Bill Thompson and Friends.  An evening Bill will host with a broad collection of friends who represent what small towns are all about.   It will be an evening of music and old-time porch conversation and evening of nostalgia and entertainment.
X-ALT-DESC;FMTTYPE=text/html:Columbus County Arts Council proudly presents A Front Porch Evening with Bill Thompson and Friends.&nbsp\; An evening Bill will host with a broad collection of friends who represent what small towns are all about.&nbsp\; &nbsp\;It will be an evening of music and old-time porch conversation and evening of nostalgia and entertainment.
LOCATION:Vineland Station Depot 701 South Madison Street Whiteville\, NC 28472
UID:e.2482.6819
SEQUENCE:3
DTSTAMP:20260423T035522Z
URL:https://members.thecolumbuschamber.com/events/details/columbus-county-arts-council-proudly-presents-6819
END:VEVENT

END:VCALENDAR
