BEGIN:VCALENDAR
VERSION:2.0
PRODID:-//ChamberMaster//Event Calendar 2.0//EN
METHOD:PUBLISH
X-PUBLISHED-TTL:P3D
REFRESH-INTERVAL:P3D
CALSCALE:GREGORIAN
BEGIN:VEVENT
DTSTART:20251007T210000Z
DTEND:20251013T030000Z
X-MICROSOFT-CDO-ALLDAYEVENT:FALSE
SUMMARY:Columbus County Agriculture Fair
DESCRIPTION:Each October the Columbus County Fairgrounds in Whiteville come to life with the Columbus County Agricultural Fair\, an authentic county fair set over the course of six days.\n\n \n\nAttendees from across southeastern North Carolina enjoy time-honored fair activities\, such as carnival rides\, a Ferris wheel\, tractor pulls\, demolition derby\, pumpkin carving contest\, a spelling bee\, live entertainment and agricultural exhibits and competitions. Some of the more unique activities at the fair include a diaper derby race\, children's tractor pull\, Farmly Feud and the ladies powder puff demolition derby.
X-ALT-DESC;FMTTYPE=text/html:<span style="font-family:times new roman\,serif\;"><span style="font-size:12.0pt\;">Each October the Columbus County Fairgrounds in Whiteville come to life with the Columbus County Agricultural Fair\, an authentic county fair set over the course of six days.</span></span><br />\n&nbsp\;<br />\n<span style="font-family:times new roman\,serif\;"><span style="font-size:12.0pt\;">Attendees from across southeastern North Carolina enjoy time-honored fair activities\, such as carnival rides\, a Ferris wheel\, tractor pulls\, demolition derby\, pumpkin carving contest\, a spelling bee\, live entertainment and agricultural exhibits and competitions. Some of the more unique activities at the fair include a diaper derby race\, children&rsquo\;s tractor pull\, Farmly Feud and the ladies powder puff demolition derby. </span></span><br />\n&nbsp\;
LOCATION:Columbus County Fairgrounds 886 Prison Camp Road Whiteville\, NC 28472
UID:e.2482.7101
SEQUENCE:3
DTSTAMP:20260422T202109Z
URL:https://members.thecolumbuschamber.com/events/details/columbus-county-agriculture-fair-7101
END:VEVENT

END:VCALENDAR
