BEGIN:VCALENDAR
VERSION:2.0
PRODID:-//ChamberMaster//Event Calendar 2.0//EN
METHOD:PUBLISH
X-PUBLISHED-TTL:P3D
REFRESH-INTERVAL:P3D
CALSCALE:GREGORIAN
BEGIN:VEVENT
DTSTART:20231009T190000Z
DTEND:20231009T210000Z
X-MICROSOFT-CDO-ALLDAYEVENT:FALSE
SUMMARY:Columbus County Agricultural Fair Parade
DESCRIPTION:35th Annual Columbus County Agriculture Fair Parade\n\nLine up - 3:00 pm\n\nParade - 4 pm
X-ALT-DESC;FMTTYPE=text/html:35th Annual Columbus County Agriculture Fair Parade<br />\nLine up - 3:00 pm<br />\nParade - 4 pm
LOCATION:Lineup will begin along Lee Street\, towards the intersection of Lee\, Madison\, and Franklin Streets\, towards West Smith Street in Whiteville.
UID:e.2482.6851
SEQUENCE:3
DTSTAMP:20260423T035544Z
URL:https://members.thecolumbuschamber.com/events/details/columbus-county-agricultural-fair-parade-6851
END:VEVENT

END:VCALENDAR
