BEGIN:VCALENDAR
VERSION:2.0
PRODID:-//ChamberMaster//Event Calendar 2.0//EN
METHOD:PUBLISH
X-PUBLISHED-TTL:P3D
REFRESH-INTERVAL:P3D
CALSCALE:GREGORIAN
BEGIN:VEVENT
DTSTART:20220223T150000Z
DTEND:20220223T163000Z
X-MICROSOFT-CDO-ALLDAYEVENT:FALSE
SUMMARY:Coffee with the Congressman
DESCRIPTION:Please join Congressman David Rouzer and fellow Chamber Members as we share concerns and receive an update from the Congressman
X-ALT-DESC;FMTTYPE=text/html:Please join Congressman David Rouzer and fellow Chamber Members as we share concerns and receive an update from the Congressman
LOCATION:Vineland Station Depot 701 S Madison Street Whiteville\, NC 28472
UID:e.2482.6558
SEQUENCE:3
DTSTAMP:20260426T043535Z
URL:https://members.thecolumbuschamber.com/events/details/coffee-with-the-congressman-6558
END:VEVENT

END:VCALENDAR
