BEGIN:VCALENDAR
VERSION:2.0
PRODID:-//ChamberMaster//Event Calendar 2.0//EN
METHOD:PUBLISH
X-PUBLISHED-TTL:P3D
REFRESH-INTERVAL:P3D
CALSCALE:GREGORIAN
BEGIN:VEVENT
DTSTART:20251025T150000Z
DTEND:20251025T190000Z
X-MICROSOFT-CDO-ALLDAYEVENT:FALSE
SUMMARY:Classy Cars & Country Cookin'
DESCRIPTION:Join us for the second year of Classy Cars & Country Cookin' to benefit Boys & Girls Homes of North Carolina. Bring your fancy vehicle to show and enjoy an afternoon of music and yummy food truck foods while you browse everyone else's fancy vehicles. With special thanks to Elizabethtown Cars & Coffee.
X-ALT-DESC;FMTTYPE=text/html:Join us for the second year of Classy Cars &amp\; Country Cookin&#39\; to benefit Boys &amp\; Girls Homes of North Carolina. Bring your fancy vehicle to show and enjoy an afternoon of music and yummy food truck foods while you browse everyone else&#39\;s fancy vehicles. With special thanks to Elizabethtown Cars &amp\; Coffee.
LOCATION:Boys & Girls Homes Farm Bill Thompson Lane Lake Waccamaw\, NC 28450
UID:e.2482.7227
SEQUENCE:3
DTSTAMP:20260422T202204Z
URL:https://members.thecolumbuschamber.com/events/details/classy-cars-country-cookin-7227
END:VEVENT

END:VCALENDAR
