BEGIN:VCALENDAR
VERSION:2.0
PRODID:-//ChamberMaster//Event Calendar 2.0//EN
METHOD:PUBLISH
X-PUBLISHED-TTL:P3D
REFRESH-INTERVAL:P3D
CALSCALE:GREGORIAN
BEGIN:VEVENT
DTSTART:20231202T230000Z
DTEND:20231203T030000Z
X-MICROSOFT-CDO-ALLDAYEVENT:FALSE
SUMMARY:City of Whiteville Downtown Christmas Parade Extravaganza
DESCRIPTION:The City of Whiteville will be hosting the Whiteville Downtown Christmas Parade Extravaganza on Saturday\, December 2\, 2023.  Christmas Parade starts at 6:00 p.m.\n\nChristmas Tree Lighting at  7:30 p.m.\n\nCarriage Rides 8:00 - 10:00 p.m.\n\n\n\nEveryone is encouraged to decorate their cars\, trailers\, floats etc. with lights\, and music to make this parade one to remember!
X-ALT-DESC;FMTTYPE=text/html:The City of Whiteville will be hosting the Whiteville Downtown Christmas Parade Extravaganza on Saturday\, December 2\, 2023.&nbsp\; Christmas Parade starts at 6:00 p.m.<br />\nChristmas Tree Lighting at&nbsp\; 7:30 p.m.<br />\nCarriage Rides 8:00 - 10:00 p.m.<br />\n<br />\nEveryone is encouraged to decorate their cars\, trailers\, floats etc. with lights\, and music to make this parade one to remember!&nbsp\;<br />\n<br />\n&nbsp\;
LOCATION:Parade Route: Start at Webster Street and end at the Madison/Lee/Franklin Street intersection.
UID:e.2482.6764
SEQUENCE:3
DTSTAMP:20260420T013029Z
URL:https://members.thecolumbuschamber.com/events/details/city-of-whiteville-downtown-christmas-parade-extravaganza-6764
END:VEVENT

END:VCALENDAR
