BEGIN:VCALENDAR
VERSION:2.0
PRODID:-//ChamberMaster//Event Calendar 2.0//EN
METHOD:PUBLISH
X-PUBLISHED-TTL:P3D
REFRESH-INTERVAL:P3D
CALSCALE:GREGORIAN
BEGIN:VEVENT
DTSTART:20231204T223000Z
DTEND:20231204T230000Z
X-MICROSOFT-CDO-ALLDAYEVENT:FALSE
SUMMARY:Christmas Tree Lighting
DESCRIPTION:Columbus Regional Healthcare System invites you to the Christmas Tree Lighting on Monday\, December 4th.
X-ALT-DESC;FMTTYPE=text/html:Columbus Regional Healthcare System invites you to the Christmas Tree Lighting on Monday\, December 4th.
LOCATION:Columbus Regional Healthcare System Front Lawn
UID:e.2482.6877
SEQUENCE:3
DTSTAMP:20260420T000535Z
URL:https://members.thecolumbuschamber.com/events/details/christmas-tree-lighting-6877
END:VEVENT

END:VCALENDAR
