BEGIN:VCALENDAR
VERSION:2.0
PRODID:-//ChamberMaster//Event Calendar 2.0//EN
METHOD:PUBLISH
X-PUBLISHED-TTL:P3D
REFRESH-INTERVAL:P3D
CALSCALE:GREGORIAN
BEGIN:VEVENT
DTSTART;VALUE=DATE:20231209
DTEND;VALUE=DATE:20231210
TRANSP:TRANSPARENT
X-MICROSOFT-CDO-ALLDAYEVENT:TRUE
SUMMARY:Christmas Soiree
DESCRIPTION:Christmas Soiree
X-ALT-DESC;FMTTYPE=text/html:Christmas Soiree
LOCATION:Tabor City\, NC 28463
UID:e.2482.6843
SEQUENCE:3
DTSTAMP:20260420T000544Z
URL:https://members.thecolumbuschamber.com/events/details/christmas-soiree-6843
END:VEVENT

END:VCALENDAR
