BEGIN:VCALENDAR
VERSION:2.0
PRODID:-//ChamberMaster//Event Calendar 2.0//EN
METHOD:PUBLISH
X-PUBLISHED-TTL:P3D
REFRESH-INTERVAL:P3D
CALSCALE:GREGORIAN
BEGIN:VEVENT
DTSTART:20221214T223000Z
DTEND:20221214T233000Z
X-MICROSOFT-CDO-ALLDAYEVENT:FALSE
SUMMARY:Christmas Event In Tabor City Twinkle Town
DESCRIPTION:Christmas In Tabor City Twinkle Town\n\nTrim A Tree Contest Judging
X-ALT-DESC;FMTTYPE=text/html:Christmas In Tabor City Twinkle Town<br />\nTrim A Tree Contest Judging
LOCATION:Tabor City\, NC 28463
UID:e.2482.6646
SEQUENCE:3
DTSTAMP:20260425T134620Z
URL:https://members.thecolumbuschamber.com/events/details/christmas-event-in-tabor-city-twinkle-town-6646
END:VEVENT

END:VCALENDAR
