BEGIN:VCALENDAR
VERSION:2.0
PRODID:-//ChamberMaster//Event Calendar 2.0//EN
METHOD:PUBLISH
X-PUBLISHED-TTL:P3D
REFRESH-INTERVAL:P3D
CALSCALE:GREGORIAN
BEGIN:VEVENT
DTSTART;VALUE=DATE:20231208
DTEND;VALUE=DATE:20231209
TRANSP:TRANSPARENT
X-MICROSOFT-CDO-ALLDAYEVENT:TRUE
SUMMARY:Christmas Cookie Crawl
DESCRIPTION:Christmas Cookie Crawl
X-ALT-DESC;FMTTYPE=text/html:Christmas Cookie Crawl
LOCATION:Tabor City\, NC 28463
UID:e.2482.6842
SEQUENCE:3
DTSTAMP:20260420T012115Z
URL:https://members.thecolumbuschamber.com/events/details/christmas-cookie-crawl-6842
END:VEVENT

END:VCALENDAR
