BEGIN:VCALENDAR
VERSION:2.0
PRODID:-//ChamberMaster//Event Calendar 2.0//EN
METHOD:PUBLISH
X-PUBLISHED-TTL:P3D
REFRESH-INTERVAL:P3D
CALSCALE:GREGORIAN
BEGIN:VEVENT
DTSTART:20231219T230000Z
DTEND:20231220T000000Z
X-MICROSOFT-CDO-ALLDAYEVENT:FALSE
SUMMARY:Christmas A Walk Through
DESCRIPTION:Christmas A Walk Through\n\nService at the Bolton Park
X-ALT-DESC;FMTTYPE=text/html:Christmas A Walk Through<br />\nService at the Bolton Park
LOCATION:Bolton\, NC
UID:e.2482.6876
SEQUENCE:3
DTSTAMP:20260420T000551Z
URL:https://members.thecolumbuschamber.com/events/details/christmas-a-walk-through-6876
END:VEVENT

END:VCALENDAR
