BEGIN:VCALENDAR
VERSION:2.0
PRODID:-//ChamberMaster//Event Calendar 2.0//EN
METHOD:PUBLISH
X-PUBLISHED-TTL:P3D
REFRESH-INTERVAL:P3D
CALSCALE:GREGORIAN
BEGIN:VEVENT
DTSTART:20230211T233000Z
DTEND:20230212T003000Z
X-MICROSOFT-CDO-ALLDAYEVENT:FALSE
SUMMARY:Chadbourn Depot Museum Valentine's Dinner
DESCRIPTION:Italian Valentine's Dinner Chadbourn Depot Museum\n\nIncludes Full Course Dinner Dessert and Vino
X-ALT-DESC;FMTTYPE=text/html:Italian Valentine&#39\;s Dinner Chadbourn Depot Museum<br />\nIncludes Full Course Dinner Dessert and Vino
LOCATION:Chadbourn Depot Museum 201 West 1st Avenue Chadbourn\, NC 28431
UID:e.2482.6669
SEQUENCE:3
DTSTAMP:20260425T121402Z
URL:https://members.thecolumbuschamber.com/events/details/chadbourn-depot-museum-valentine-s-dinner-6669
END:VEVENT

END:VCALENDAR
