BEGIN:VCALENDAR
VERSION:2.0
PRODID:-//ChamberMaster//Event Calendar 2.0//EN
METHOD:PUBLISH
X-PUBLISHED-TTL:P3D
REFRESH-INTERVAL:P3D
CALSCALE:GREGORIAN
BEGIN:VEVENT
DTSTART:20260228T220000Z
DTEND:20260301T010000Z
X-MICROSOFT-CDO-ALLDAYEVENT:FALSE
SUMMARY:CCYFA Taste of Columbus
DESCRIPTION:Theme: Patriotic. Fundraiser benefiting all ages birth-senior citizens. Funds raised in Columbus County and partnering with other nonprofits/SCC/programs\, etc. to help provide scholarships\, etc. Ultimate goal to help sustain a Wellness Center with a pool to teach swimming\, school swim
X-ALT-DESC;FMTTYPE=text/html:Theme: Patriotic. Fundraiser benefiting all ages birth-senior citizens. Funds raised in Columbus County and partnering with other nonprofits/SCC/programs\, etc. to help provide scholarships\, etc. Ultimate goal to help sustain a Wellness Center with a pool to teach swimming\, school swim&nbsp\;
LOCATION:
UID:e.2482.7275
SEQUENCE:3
DTSTAMP:20260422T081148Z
URL:https://members.thecolumbuschamber.com/events/details/ccyfa-taste-of-columbus-7275
END:VEVENT

END:VCALENDAR
