BEGIN:VCALENDAR
VERSION:2.0
PRODID:-//ChamberMaster//Event Calendar 2.0//EN
METHOD:PUBLISH
X-PUBLISHED-TTL:P3D
REFRESH-INTERVAL:P3D
CALSCALE:GREGORIAN
BEGIN:VEVENT
DTSTART:20221026T140000Z
DTEND:20221026T180000Z
X-MICROSOFT-CDO-ALLDAYEVENT:FALSE
SUMMARY:Carolina Staffing Solutions
DESCRIPTION:Carolina Staffing Solutions Spooky Job Fair Event
X-ALT-DESC;FMTTYPE=text/html:Carolina Staffing Solutions Spooky Job Fair Event
LOCATION:Carolina Staffing Solutions 1727 S. Madison Street Whiteville\, NC 28472
UID:e.2482.6635
SEQUENCE:3
DTSTAMP:20260425T164151Z
URL:https://members.thecolumbuschamber.com/events/details/carolina-staffing-solutions-6635
END:VEVENT

END:VCALENDAR
