BEGIN:VCALENDAR
VERSION:2.0
PRODID:-//ChamberMaster//Event Calendar 2.0//EN
METHOD:PUBLISH
X-PUBLISHED-TTL:P3D
REFRESH-INTERVAL:P3D
CALSCALE:GREGORIAN
BEGIN:VEVENT
DTSTART:20230810T210000Z
DTEND:20230810T223000Z
X-MICROSOFT-CDO-ALLDAYEVENT:FALSE
SUMMARY:Business 2 Business After Hours & Ribbon Cutting
DESCRIPTION:You are invited to attend the Ribbon Cutting & Business 2 Business After Hours event on Thursday\, August 10\, 2023 from 5:00 - 6:30 p.m. for Todd's Clothing store.
X-ALT-DESC;FMTTYPE=text/html:You are invited to attend the Ribbon Cutting &amp\; Business<em> 2</em> Business After Hours event on Thursday\, August 10\, 2023 from 5:00 - 6:30 p.m. for Todd&#39\;s Clothing store.
LOCATION:Todd's Clothing 800 South Madison Street Whiteville\, NC 28472
UID:e.2482.6793
SEQUENCE:3
DTSTAMP:20260421T171957Z
URL:https://members.thecolumbuschamber.com/events/details/business-2-business-after-hours-ribbon-cutting-6793
END:VEVENT

END:VCALENDAR
