BEGIN:VCALENDAR
VERSION:2.0
PRODID:-//ChamberMaster//Event Calendar 2.0//EN
METHOD:PUBLISH
X-PUBLISHED-TTL:P3D
REFRESH-INTERVAL:P3D
CALSCALE:GREGORIAN
BEGIN:VEVENT
DTSTART:20240928T140000Z
DTEND:20240928T210000Z
X-MICROSOFT-CDO-ALLDAYEVENT:FALSE
SUMMARY:Brunswick Stew Festival
DESCRIPTION:Brunswick Stew Festival will be held at the Columbus County Fairgrounds on Saturday\, September 28\, 2024.  The parade will begin at 10:00 a.m. starting in front of National Spinning and end at the fairgrounds.\n\n\n\nA pageant will be held on September 17\, 2022 at the SCC auditorium. beginning at 6:00 p.m.
X-ALT-DESC;FMTTYPE=text/html:Brunswick Stew Festival will be held at the Columbus County Fairgrounds on Saturday\, September 28\, 2024.&nbsp\; The parade will begin at 10:00 a.m. starting in front of National Spinning and end at the fairgrounds.<br />\n<br />\nA pageant will be held on September 17\, 2022 at the SCC auditorium. beginning at 6:00 p.m.
LOCATION:Brunswick Stew Festival Columbus County Fairgrounds
UID:e.2482.7060
SEQUENCE:3
DTSTAMP:20260420T152029Z
URL:https://members.thecolumbuschamber.com/events/details/brunswick-stew-festival-7060
END:VEVENT

END:VCALENDAR
