BEGIN:VCALENDAR
VERSION:2.0
PRODID:-//ChamberMaster//Event Calendar 2.0//EN
METHOD:PUBLISH
X-PUBLISHED-TTL:P3D
REFRESH-INTERVAL:P3D
CALSCALE:GREGORIAN
BEGIN:VEVENT
DTSTART:20230728T200000Z
DTEND:20230728T220000Z
X-MICROSOFT-CDO-ALLDAYEVENT:FALSE
SUMMARY:Brendon Jones Listening Session with Small Business Owners
DESCRIPTION:Brendon Jones Listening Session with Small Business Owners @ SCC\nMicrosoft Teams meeting\n\n\nJoin on your computer\, mobile app or room device\nClick here to join the meeting\n\n\n\nMeeting ID: 232 029 382 166\n\nPasscode: DuzXpT\n\nDownload Teams | Join on the web\n\n\n\nLearn More | Meeting options
X-ALT-DESC;FMTTYPE=text/html:Brendon Jones Listening Session with Small Business Owners @ SCC\n<div style="color: rgb(37\, 36\, 36)\; font-family: &quot\;Segoe UI&quot\;\, &quot\;Helvetica Neue&quot\;\, Helvetica\, Arial\, sans-serif\; font-size: small\; background-color: rgb(255\, 255\, 255)\; margin-top: 24px\; margin-bottom: 20px\;"><span style="font-size: 24px\;">Microsoft Teams meeting</span></div>\n\n<div style="color: rgb(37\, 36\, 36)\; font-family: &quot\;Segoe UI&quot\;\, &quot\;Helvetica Neue&quot\;\, Helvetica\, Arial\, sans-serif\; font-size: small\; background-color: rgb(255\, 255\, 255)\; margin-bottom: 20px\;">\n<div style="margin-top: 0px\; margin-bottom: 0px\; font-weight: bold\;"><span style="font-size: 14px\;">Join on your computer\, mobile app or room device</span></div>\n<a data-saferedirecturl="https://www.google.com/url?q=https://teams.microsoft.com/l/meetup-join/19%253ameeting_ZGNmMGMwOTktNTM2YS00YTdkLWI5OWUtMGVmMWJkZTdiOGU0%2540thread.v2/0?context%3D%257b%2522Tid%2522%253a%2522e49ab08b-51ad-4207-a18f-9794ad7798a8%2522%252c%2522Oid%2522%253a%25228f816de2-ed17-445f-9d4d-3220434529b9%2522%257d&amp\;source=gmail&amp\;ust=1683301311588000&amp\;usg=AOvVaw0v03QEYNzkxcqGMMjusnPG" href="https://teams.microsoft.com/l/meetup-join/19%3ameeting_ZGNmMGMwOTktNTM2YS00YTdkLWI5OWUtMGVmMWJkZTdiOGU0%40thread.v2/0?context=%7b%22Tid%22%3a%22e49ab08b-51ad-4207-a18f-9794ad7798a8%22%2c%22Oid%22%3a%228f816de2-ed17-445f-9d4d-3220434529b9%22%7d" rel="noreferrer noopener" style="color: rgb(98\, 100\, 167)\; font-size: 14px\; font-family: &quot\;Segoe UI Semibold&quot\;\, &quot\;Segoe UI&quot\;\, &quot\;Helvetica Neue&quot\;\, Helvetica\, Arial\, sans-serif\;" target="_blank">Click here to join the meeting</a></div>\n\n<div lang="en-US" style="font-size: small\; background-color: rgb(255\, 255\, 255)\; color: rgb(37\, 36\, 36)\; font-family: &quot\;Segoe UI&quot\;\, &quot\;Helvetica Neue&quot\;\, Helvetica\, Arial\, sans-serif\;">\n<div style="margin-bottom: 20px\; margin-top: 20px\;">\n<div style="margin-bottom: 4px\;"><span style="font-size: 14px\;">Meeting ID:&nbsp\;<span style="font-size: 16px\;">232 029 382 166</span></span><br />\n<span style="font-size: 14px\;">Passcode:&nbsp\;</span><span style="font-size: 16px\;">DuzXpT</span>\n\n<div style="font-size: 14px\;"><a data-saferedirecturl="https://www.google.com/url?q=https://www.microsoft.com/en-us/microsoft-teams/download-app&amp\;source=gmail&amp\;ust=1683301311588000&amp\;usg=AOvVaw1i7Fq5Q9YF0Fa_Re6n3wzi" href="https://www.microsoft.com/en-us/microsoft-teams/download-app" rel="noreferrer noopener" style="color: rgb(98\, 100\, 167)\;" target="_blank">Download Teams</a>&nbsp\;|&nbsp\;<a data-saferedirecturl="https://www.google.com/url?q=https://www.microsoft.com/microsoft-teams/join-a-meeting&amp\;source=gmail&amp\;ust=1683301311588000&amp\;usg=AOvVaw3YNGnE8blaHBLlCcWelalB" href="https://www.microsoft.com/microsoft-teams/join-a-meeting" rel="noreferrer noopener" style="color: rgb(98\, 100\, 167)\;" target="_blank">Join on the web</a></div>\n</div>\n</div>\n\n<div style="margin-bottom: 24px\; margin-top: 20px\;"><a data-saferedirecturl="https://www.google.com/url?q=https://aka.ms/JoinTeamsMeeting&amp\;source=gmail&amp\;ust=1683301311588000&amp\;usg=AOvVaw0rLTKRnHR3ISYt2BYSAwqv" href="https://aka.ms/JoinTeamsMeeting" rel="noreferrer noopener" style="color: rgb(98\, 100\, 167)\; font-size: 14px\;" target="_blank">Learn More</a>&nbsp\;|&nbsp\;<a data-saferedirecturl="https://www.google.com/url?q=https://teams.microsoft.com/meetingOptions/?organizerId%3D8f816de2-ed17-445f-9d4d-3220434529b9%26tenantId%3De49ab08b-51ad-4207-a18f-9794ad7798a8%26threadId%3D19_meeting_ZGNmMGMwOTktNTM2YS00YTdkLWI5OWUtMGVmMWJkZTdiOGU0@thread.v2%26messageId%3D0%26language%3Den-US&amp\;source=gmail&amp\;ust=1683301311588000&amp\;usg=AOvVaw2BFSFYW0wYjYPt6OUhFiyo" href="https://teams.microsoft.com/meetingOptions/?organizerId=8f816de2-ed17-445f-9d4d-3220434529b9&amp\;tenantId=e49ab08b-51ad-4207-a18f-9794ad7798a8&amp\;threadId=19_meeting_ZGNmMGMwOTktNTM2YS00YTdkLWI5OWUtMGVmMWJkZTdiOGU0@thread.v2&amp\;messageId=0&amp\;language=en-US" rel="noreferrer noopener" style="color: rgb(98\, 100\, 167)\; font-size: 14px\;" target="_blank">Meeting options</a></div>\n</div>\n\n<div style="color: rgb(34\, 34\, 34)\; background-color: rgb(255\, 255\, 255)\; font-size: 14px\; margin-bottom: 4px\; font-family: &quot\;Segoe UI&quot\;\, &quot\;Helvetica Neue&quot\;\, Helvetica\, Arial\, sans-serif\;">&nbsp\;</div>\n\n<div style="color: rgb(34\, 34\, 34)\; font-family: Arial\, Helvetica\, sans-serif\; background-color: rgb(255\, 255\, 255)\; font-size: 12px\;">&nbsp\;</div>\n\n<div style="color: rgb(34\, 34\, 34)\; font-family: Arial\, Helvetica\, sans-serif\; font-size: small\; background-color: rgb(255\, 255\, 255)\;">&nbsp\;</div>\n\n<div style="color: rgb(34\, 34\, 34)\; font-family: Arial\, Helvetica\, sans-serif\; font-size: small\; background-color: rgb(255\, 255\, 255)\; width: 908px\;">&nbsp\;</div>\n
LOCATION:Microsoft Teams meeting Join on your computer\, mobile app or room device Click here to join the meeting Meeting ID: 232 029 382 166 Passcode: DuzXpT Download Teams | Join on the web Learn More | Meeting options _____________________
UID:e.2482.6736
SEQUENCE:3
DTSTAMP:20260421T171516Z
URL:https://members.thecolumbuschamber.com/events/details/brendon-jones-listening-session-with-small-business-owners-6736
END:VEVENT

END:VCALENDAR
