BEGIN:VCALENDAR
VERSION:2.0
PRODID:-//ChamberMaster//Event Calendar 2.0//EN
METHOD:PUBLISH
X-PUBLISHED-TTL:P3D
REFRESH-INTERVAL:P3D
CALSCALE:GREGORIAN
BEGIN:VEVENT
DTSTART:20221203T143000Z
DTEND:20221203T153000Z
X-MICROSOFT-CDO-ALLDAYEVENT:FALSE
SUMMARY:Breakfast with Santa
DESCRIPTION:You're invited to have Breakfast with Santa on December 3\, 2022 at 9:30 a.m. at the Chadbourn Depot Museum.
X-ALT-DESC;FMTTYPE=text/html:You&#39\;re invited to have Breakfast with Santa on December 3\, 2022 at 9:30 a.m. at the Chadbourn Depot Museum.
LOCATION:Chadbourn Depot Museum 201 West First Street Chadbourn\, NC 28431
UID:e.2482.6642
SEQUENCE:3
DTSTAMP:20260425T134207Z
URL:https://members.thecolumbuschamber.com/events/details/breakfast-with-santa-6642
END:VEVENT

END:VCALENDAR
