BEGIN:VCALENDAR
VERSION:2.0
PRODID:-//ChamberMaster//Event Calendar 2.0//EN
METHOD:PUBLISH
X-PUBLISHED-TTL:P3D
REFRESH-INTERVAL:P3D
CALSCALE:GREGORIAN
BEGIN:VEVENT
DTSTART:20231020T230000Z
DTEND:20231021T003000Z
X-MICROSOFT-CDO-ALLDAYEVENT:FALSE
SUMMARY:Brady-Kendall Art Show Reception
DESCRIPTION:Join the Columbus County Arts Council as we celebrate our artist\n\nBrady-Kendall Juried Art Show Reception.
X-ALT-DESC;FMTTYPE=text/html:Join the Columbus County Arts Council as we celebrate our artist<br />\nBrady-Kendall Juried Art Show Reception.
LOCATION:Columbus County Arts Council 822 South Madison Street Whiteville\, NC 28472
UID:e.2482.6855
SEQUENCE:3
DTSTAMP:20260423T035335Z
URL:https://members.thecolumbuschamber.com/events/details/brady-kendall-art-show-reception-6855
END:VEVENT

END:VCALENDAR
