BEGIN:VCALENDAR
VERSION:2.0
PRODID:-//ChamberMaster//Event Calendar 2.0//EN
METHOD:PUBLISH
X-PUBLISHED-TTL:P3D
REFRESH-INTERVAL:P3D
CALSCALE:GREGORIAN
BEGIN:VEVENT
DTSTART:20230830T150000Z
DTEND:20230830T200000Z
X-MICROSOFT-CDO-ALLDAYEVENT:FALSE
SUMMARY:Boys & Girls Homes Red Cross Blood Driive
DESCRIPTION:Boys & Girls Homes Red Cross Blood Drive\n\nAugust 30\, 2023
X-ALT-DESC;FMTTYPE=text/html:Boys &amp\; Girls Homes Red Cross Blood Drive<br />\nAugust 30\, 2023
LOCATION:Morton Conference Center Boys & Girls Homes Farm entrance on Top Tobacco Road Lake Waccamaw\, NC 28450
UID:e.2482.6799
SEQUENCE:3
DTSTAMP:20260421T172118Z
URL:https://members.thecolumbuschamber.com/events/details/boys-girls-homes-red-cross-blood-driive-6799
END:VEVENT

END:VCALENDAR
