BEGIN:VCALENDAR
VERSION:2.0
PRODID:-//ChamberMaster//Event Calendar 2.0//EN
METHOD:PUBLISH
X-PUBLISHED-TTL:P3D
REFRESH-INTERVAL:P3D
CALSCALE:GREGORIAN
BEGIN:VEVENT
DTSTART:20231202T190000Z
DTEND:20231203T230000Z
X-MICROSOFT-CDO-ALLDAYEVENT:FALSE
SUMMARY:Boys & Girls Homes of NC presents Christmas Nativity Journey
DESCRIPTION:Boys & Girls Homes of NC presents the Christmas Nativity Journey\n\nSee hundres of Nativity scenes in three locations\n\nEnjoy seasonal refreshments
X-ALT-DESC;FMTTYPE=text/html:Boys &amp\; Girls Homes of NC presents the Christmas Nativity Journey<br />\nSee hundres of Nativity scenes in three locations<br />\nEnjoy seasonal refreshments
LOCATION:Boys and Girls Homes of NC Lake Waccamaw Depot Museum Plus a Carriage House Open House Lake Waccamaw\, NC 28450
UID:e.2482.6865
SEQUENCE:3
DTSTAMP:20260420T002639Z
URL:https://members.thecolumbuschamber.com/events/details/boys-girls-homes-of-nc-presents-christmas-nativity-journey-6865
END:VEVENT

END:VCALENDAR
