BEGIN:VCALENDAR
VERSION:2.0
PRODID:-//ChamberMaster//Event Calendar 2.0//EN
METHOD:PUBLISH
X-PUBLISHED-TTL:P3D
REFRESH-INTERVAL:P3D
CALSCALE:GREGORIAN
BEGIN:VEVENT
DTSTART:20251017T213000Z
DTEND:20251019T030000Z
X-MICROSOFT-CDO-ALLDAYEVENT:FALSE
SUMMARY:Boys & Girls Home of NC Rodeo
DESCRIPTION:Farm Bureau of Brunswick County presents the Boys & Girls Home of NC\n\nRodeo
X-ALT-DESC;FMTTYPE=text/html:Farm Bureau of Brunswick County presents the Boys &amp\; Girls Home of NC<br />\nRodeo
LOCATION:Bill Thompson Lane Lake Waccamaw\, NC 28450
UID:e.2482.7251
SEQUENCE:3
DTSTAMP:20260422T202414Z
URL:https://members.thecolumbuschamber.com/events/details/boys-girls-home-of-nc-rodeo-7251
END:VEVENT

END:VCALENDAR
