BEGIN:VCALENDAR
VERSION:2.0
PRODID:-//ChamberMaster//Event Calendar 2.0//EN
METHOD:PUBLISH
X-PUBLISHED-TTL:P3D
REFRESH-INTERVAL:P3D
CALSCALE:GREGORIAN
BEGIN:VEVENT
DTSTART:20230708T150000Z
DTEND:20230708T180000Z
X-MICROSOFT-CDO-ALLDAYEVENT:FALSE
SUMMARY:Benefit Ride and Classic Car Show
DESCRIPTION:Benefit Ride and Classic Car Show Open to the public.\n\nHosted by the Christian Motorcyclists\n\nAssociation to benefit Boys and Girls Homes of NC\n\nAll proceeds benefit children of BGHNC\, EIN# 58-1387871
X-ALT-DESC;FMTTYPE=text/html:Benefit Ride and Classic Car Show Open to the public.<br />\nHosted by the Christian Motorcyclists<br />\nAssociation to benefit Boys and Girls Homes of NC<br />\nAll proceeds benefit children of BGHNC\, EIN# 58-1387871
LOCATION:Join us for this amazing event sponsored by Pirate Ship Powersports Ride from Pirate Ship Powersport at 5725 Market Street in Wilmington to Boys and Girls Homes of NC in Lake Waccamaw. Classic car show will convene at BGHNC and is open to the public.
UID:e.2482.6772
SEQUENCE:3
DTSTAMP:20260421T154744Z
URL:https://members.thecolumbuschamber.com/events/details/benefit-ride-and-classic-car-show-6772
END:VEVENT

END:VCALENDAR
