BEGIN:VCALENDAR
VERSION:2.0
PRODID:-//ChamberMaster//Event Calendar 2.0//EN
METHOD:PUBLISH
X-PUBLISHED-TTL:P3D
REFRESH-INTERVAL:P3D
CALSCALE:GREGORIAN
BEGIN:VEVENT
DTSTART;VALUE=DATE:20240427
DTEND;VALUE=DATE:20240428
TRANSP:TRANSPARENT
X-MICROSOFT-CDO-ALLDAYEVENT:TRUE
SUMMARY:BBQ on the Bluff & Fair Bluff River Walk
DESCRIPTION:The Greater Fair Bluff Chamber  of Commerce is planning a\n\nBBQ on the Bluff & Fair Bluff River Walk
X-ALT-DESC;FMTTYPE=text/html:The Greater Fair Bluff Chamber&nbsp\; of Commerce is planning a<br />\nBBQ on the Bluff &amp\; Fair Bluff River Walk<br />\n&nbsp\;
LOCATION:Riverside Drive Fair Bluff\, NC 28439
UID:e.2482.6895
SEQUENCE:3
DTSTAMP:20260420T220122Z
URL:https://members.thecolumbuschamber.com/events/details/bbq-on-the-bluff-fair-bluff-river-walk-6895
END:VEVENT

END:VCALENDAR
