BEGIN:VCALENDAR
VERSION:2.0
PRODID:-//ChamberMaster//Event Calendar 2.0//EN
METHOD:PUBLISH
X-PUBLISHED-TTL:P3D
REFRESH-INTERVAL:P3D
CALSCALE:GREGORIAN
BEGIN:VEVENT
DTSTART:20240426T200000Z
DTEND:20240427T160000Z
X-MICROSOFT-CDO-ALLDAYEVENT:FALSE
SUMMARY:BBQ on the Bluff
DESCRIPTION:The Greater Fair Bluff Chamber of Commerce is planning a BBQ Cooking Competition\, to be held in Fair Bluff\, April 26-27\, 2024. This will be our 13th annual\, featuring some of the finest BBQ Cooks in North and South Carolina. We hope you can join us at BBQ on the Bluff\, and show off your skills in the fine art of outdoor cooking. 1st Prize will be $500.00 & Trophy 2nd Prize will be $300.00 & Trophy 3rd Prize will be $150.00 & Trophy Trophies will also be awarded during the Showmanship Judging\, which will be held Friday Night\, April 26th. We hope that you will join us for some great fun\, and wonderful BBQ. If you have any questions\, call Kathy at 910-840-4091 or Gene at 910-649-7202 or 910-649-7871\, or email\, fairbluffnc@rsnet.org. Looking forward to seeing you\, April 26-27\, 2024.
X-ALT-DESC;FMTTYPE=text/html:The Greater Fair Bluff Chamber of Commerce is planning a BBQ Cooking Competition\, to be held in Fair Bluff\, April 26-27\, 2024. This will be our 13th annual\, featuring some of the finest BBQ Cooks in North and South Carolina. We hope you can join us at BBQ on the Bluff\, and show off your skills in the fine art of outdoor cooking. 1st Prize will be $500.00 &amp\; Trophy 2nd Prize will be $300.00 &amp\; Trophy 3rd Prize will be $150.00 &amp\; Trophy Trophies will also be awarded during the Showmanship Judging\, which will be held Friday Night\, April 26th. We hope that you will join us for some great fun\, and wonderful BBQ. If you have any questions\, call Kathy at 910-840-4091 or Gene at 910-649-7202 or 910-649-7871\, or email\, fairbluffnc@rsnet.org. Looking forward to seeing you\, April 26-27\, 2024.
LOCATION:Riverside Drive Fair Bluff\, NC 28439
UID:e.2482.6912
SEQUENCE:3
DTSTAMP:20260420T215734Z
URL:https://members.thecolumbuschamber.com/events/details/bbq-on-the-bluff-04-26-2024-6912
END:VEVENT

END:VCALENDAR
