BEGIN:VCALENDAR
VERSION:2.0
PRODID:-//ChamberMaster//Event Calendar 2.0//EN
METHOD:PUBLISH
X-PUBLISHED-TTL:P3D
REFRESH-INTERVAL:P3D
CALSCALE:GREGORIAN
BEGIN:VEVENT
DTSTART:20230701T233000Z
DTEND:20230702T013000Z
X-MICROSOFT-CDO-ALLDAYEVENT:FALSE
SUMMARY:Alexander Mitchell as Elvis Presley
DESCRIPTION:Alex Mitchell "knocked their socks off" back in July of 2022!  Now\, he's back with his full 2 Hour Show.\n\nAlex is one of the BEST Elvis Tribute Artists in the country.  Come and see why so many fans travel hours to see him!\n\n\n\nNow\, he's performing in Columbus County!  There's plenty of FREE SAFE Parking within a half block of Brown Street Station in Any Direction!\n\nOrder your tickets at www.brownstreetstation.com\n\n\n\nThank you.
X-ALT-DESC;FMTTYPE=text/html:Alex Mitchell &quot\;knocked their socks off&quot\; back in July of 2022!&nbsp\; Now\, he&#39\;s back with his full 2 Hour Show.<br />\nAlex is one of the BEST Elvis Tribute Artists in the country.&nbsp\; Come and see why so many fans travel hours to see him!<br />\n<br />\nNow\, he&#39\;s performing in Columbus County!&nbsp\; There&#39\;s plenty of FREE SAFE Parking within a half block of Brown Street Station in Any Direction!<br />\nOrder your tickets at www.brownstreetstation.com<br />\n<br />\nThank you.
LOCATION:Brown Street Station 202 N. Brown St. Chadbourn\, NC 28431 910-477-8080
UID:e.2482.6711
SEQUENCE:3
DTSTAMP:20260421T154703Z
URL:https://members.thecolumbuschamber.com/events/details/alexander-mitchell-as-elvis-presley-6711
END:VEVENT

END:VCALENDAR
