BEGIN:VCALENDAR
VERSION:2.0
PRODID:-//ChamberMaster//Event Calendar 2.0//EN
METHOD:PUBLISH
X-PUBLISHED-TTL:P3D
REFRESH-INTERVAL:P3D
CALSCALE:GREGORIAN
BEGIN:VEVENT
DTSTART:20231025T233000Z
DTEND:20231026T013000Z
X-MICROSOFT-CDO-ALLDAYEVENT:FALSE
SUMMARY:A Dia de los Muertos Celebration - Ofrenda
DESCRIPTION:One of Mexico's most beloved holidays\, Dia de los Muertos celebrates the lives of loved ones who have passed on by building an Ofrenda\, a home altar decorated with a collection of objects\, candles\, marigold flowers and photos of our dearly departed. Ofrenda is a show for the entire family. Entertaining and fun for the kids\, moving and exciting for the grown up\, also sweet and filled with memories for our Abuelitas and Abuelitos.
X-ALT-DESC;FMTTYPE=text/html:One of Mexico&rsquo\;s most beloved holidays\, Dia de los Muertos celebrates the lives of loved ones who have passed on by building an Ofrenda\, a home altar decorated with a collection of objects\, candles\, marigold flowers and photos of our dearly departed. Ofrenda is a show for the entire family. Entertaining and fun for the kids\, moving and exciting for the grown up\, also sweet and filled with memories for our Abuelitas and Abuelitos.
LOCATION:Givens Performing Arts Center
UID:e.2482.6825
SEQUENCE:3
DTSTAMP:20260423T035503Z
URL:https://members.thecolumbuschamber.com/events/details/a-dia-de-los-muertos-celebration-ofrenda-6825
END:VEVENT

END:VCALENDAR
