BEGIN:VCALENDAR
VERSION:2.0
PRODID:-//ChamberMaster//Event Calendar 2.0//EN
METHOD:PUBLISH
X-PUBLISHED-TTL:P3D
REFRESH-INTERVAL:P3D
CALSCALE:GREGORIAN
BEGIN:VEVENT
DTSTART:20251030T230000Z
DTEND:20251031T010000Z
X-MICROSOFT-CDO-ALLDAYEVENT:FALSE
SUMMARY:80's Party
DESCRIPTION:80's Party\, Like\, Totally Join Us In the Alley Downtown Whiteville\n\nDeck out in your freshest 80's fashion!  Dance with DJ Mitchell  Strickland's Totally Tubular Tunes from the eighties.
X-ALT-DESC;FMTTYPE=text/html:80&#39\;s Party\, Like\, Totally Join Us In the Alley Downtown Whiteville<br />\nDeck out in your freshest 80&#39\;s fashion!&nbsp\; Dance with DJ Mitchell&nbsp\; Strickland&#39\;s Totally Tubular Tunes from the eighties.
LOCATION:Downtown Whiteville
UID:e.2482.7231
SEQUENCE:3
DTSTAMP:20260422T201931Z
URL:https://members.thecolumbuschamber.com/events/details/80-s-party-7231
END:VEVENT

END:VCALENDAR
