BEGIN:VCALENDAR
VERSION:2.0
PRODID:-//ChamberMaster//Event Calendar 2.0//EN
METHOD:PUBLISH
X-PUBLISHED-TTL:P3D
REFRESH-INTERVAL:P3D
CALSCALE:GREGORIAN
BEGIN:VEVENT
DTSTART:20230708T233000Z
DTEND:20230709T013000Z
X-MICROSOFT-CDO-ALLDAYEVENT:FALSE
SUMMARY:5th annual Lumbee Film Festival presents Tough Skin
DESCRIPTION:Director Montana Cypress gives a look into the perilous world of Alligator Wrestling through the eyes of Florida's Indian tribes. From a culture based practice to the commercially viable world of gator wrestling championships\, we discover the innovative paths the tribes have embraced to sustain their sovereignty in an ever evolving world.
X-ALT-DESC;FMTTYPE=text/html:Director Montana Cypress gives a look into the perilous world of Alligator Wrestling through the eyes of Florida&rsquo\;s Indian tribes. From a culture based practice to the commercially viable world of gator wrestling championships\, we discover the innovative paths the tribes have embraced to sustain their sovereignty in an ever evolving world.
LOCATION:University of North Carolina Pembroke
UID:e.2482.6759
SEQUENCE:3
DTSTAMP:20260421T155202Z
URL:https://members.thecolumbuschamber.com/events/details/5th-annual-lumbee-film-festival-presents-tough-skin-6759
END:VEVENT

END:VCALENDAR
