BEGIN:VCALENDAR
VERSION:2.0
PRODID:-//ChamberMaster//Event Calendar 2.0//EN
METHOD:PUBLISH
X-PUBLISHED-TTL:P3D
REFRESH-INTERVAL:P3D
CALSCALE:GREGORIAN
BEGIN:VEVENT
DTSTART:20230706T233000Z
DTEND:20230707T013000Z
X-MICROSOFT-CDO-ALLDAYEVENT:FALSE
SUMMARY:5th annual Lumbee Film Festival Opening Night Shorts Block
DESCRIPTION:The opening night shorts block features a range of films including: documentaries\, poetry\, animation and the narrative drama "Can Archaeology Repair its Past with Indigenous America?" directed by award-winning filmmaker and Lumbee Tribe member\, Victoria Sutton. A discussion with all attending filmmakers will follow the screening.
X-ALT-DESC;FMTTYPE=text/html:The opening night shorts block features a range of films including: documentaries\, poetry\, animation and the narrative drama &quot\;Can Archaeology Repair its Past with Indigenous America?&quot\; directed by award-winning filmmaker and Lumbee Tribe member\, Victoria Sutton. A discussion with all attending filmmakers will follow the screening.
LOCATION:University of North Carolina Pembroke
UID:e.2482.6757
SEQUENCE:3
DTSTAMP:20260421T155205Z
URL:https://members.thecolumbuschamber.com/events/details/5th-annual-lumbee-film-festival-opening-night-shorts-block-6757
END:VEVENT

END:VCALENDAR
