BEGIN:VCALENDAR
VERSION:2.0
PRODID:-//ChamberMaster//Event Calendar 2.0//EN
METHOD:PUBLISH
X-PUBLISHED-TTL:P3D
REFRESH-INTERVAL:P3D
CALSCALE:GREGORIAN
BEGIN:VEVENT
DTSTART:20230707T233000Z
DTEND:20230708T013000Z
X-MICROSOFT-CDO-ALLDAYEVENT:FALSE
SUMMARY:5th annual Lumbee Film Festival
DESCRIPTION:5th annual Lumbee Film Festival night 2 is a double header! "Faces from the Interior" addresses the impact of Karl Bodmer sketched and painted images\, which are historical art documents that are iconic in present day America\, among the direct descendants of the Mandan\, Hidatsa\, Arikara Nation. "Mary Two-Axe Earley: I Am Indian Again" shares the powerful story of Mary Two-Axe Earley\, who fought for more than two decades to challenge sex discrimination against First Nations women embedded in Canada's Indian Act and became a key figure in Canada's women's rights movement.
X-ALT-DESC;FMTTYPE=text/html:5th annual Lumbee Film Festival night 2 is a double header! &quot\;Faces from the Interior&quot\; addresses the impact of Karl Bodmer sketched and painted images\, which are historical art documents that are iconic in present day America\, among the direct descendants of the Mandan\, Hidatsa\, Arikara Nation. &quot\;Mary Two-Axe Earley: I Am Indian Again&quot\; shares the powerful story of Mary Two-Axe Earley\, who fought for more than two decades to challenge sex discrimination against First Nations women embedded in Canada&rsquo\;s Indian Act and became a key figure in Canada&rsquo\;s women&rsquo\;s rights movement.
LOCATION:University of North Carolina Pembroke
UID:e.2482.6758
SEQUENCE:3
DTSTAMP:20260421T171058Z
URL:https://members.thecolumbuschamber.com/events/details/5th-annual-lumbee-film-festival-6758
END:VEVENT

END:VCALENDAR
