BEGIN:VCALENDAR
VERSION:2.0
PRODID:-//ChamberMaster//Event Calendar 2.0//EN
METHOD:PUBLISH
X-PUBLISHED-TTL:P3D
REFRESH-INTERVAL:P3D
CALSCALE:GREGORIAN
BEGIN:VEVENT
DTSTART;VALUE=DATE:20231020
DTEND;VALUE=DATE:20231022
TRANSP:TRANSPARENT
X-MICROSOFT-CDO-ALLDAYEVENT:TRUE
SUMMARY:51st Annual Waccamaw Siouan Pow Wow
DESCRIPTION:The Waccamaw Siouan Indians are one of eight state-recognized Native American tribes in North Carolina. Located predominantly in the southeastern North Carolina counties of Bladen and Columbus\, in the communities of St. James\, Buckhead\, and Council.\n\n			waccamaw-siouan.org
X-ALT-DESC;FMTTYPE=text/html:<div>&nbsp\;</div>\n\n<div>\n<table id="m_7511980392329330398LPContainer711599" role="presentation" style="color: rgb(0\, 0\, 0)\; font-family: arial\, sans-serif\; font-size: small\; padding: 12px 36px 12px 12px\; width: 800px\; border-width: 1px\; border-style: solid\; border-color: rgb(200\, 200\, 200)\; border-radius: 2px\;">\n	<tbody>\n		<tr style="border-spacing: 0px\;" valign="top">\n			<td style="font-size: 13px\; width: 488px\;">\n			<div id="m_7511980392329330398LPDescription711599" style="font-family: wf_segoe-ui_normal\, &quot\;Segoe UI&quot\;\, &quot\;Segoe WP&quot\;\, Tahoma\, Arial\, sans-serif\; font-size: 14px\; max-height: 100px\; color: rgb(102\, 102\, 102)\; margin-bottom: 12px\; margin-right: 8px\; overflow: hidden\;">The Waccamaw Siouan Indians are one of eight state-recognized Native American tribes in North Carolina. Located predominantly in the southeastern North Carolina counties of Bladen and Columbus\, in the communities of St. James\, Buckhead\, and Council.</div>\n\n			<div id="m_7511980392329330398LPMetadata711599" style="font-family: wf_segoe-ui_normal\, &quot\;Segoe UI&quot\;\, &quot\;Segoe WP&quot\;\, Tahoma\, Arial\, sans-serif\; font-size: 14px\; color: rgb(166\, 166\, 166)\;"><a data-saferedirecturl="https://www.google.com/url?hl=en&amp\;q=http://waccamaw-siouan.org&amp\;source=gmail&amp\;ust=1659796842294000&amp\;usg=AOvVaw3bnT0knxfZqx3OuHHd7uWc" href="http://waccamaw-siouan.org/" style="font-family: arial\, sans-serif\; color: rgb(17\, 85\, 204)\; text-decoration-line: none\;" target="_blank">waccamaw-siouan.org</a></div>\n			</td>\n		</tr>\n	</tbody>\n</table>\n</div>\n
LOCATION:7239 Old Lake Road Bolton\, NC 28423
UID:e.2482.6766
SEQUENCE:3
DTSTAMP:20260423T035620Z
URL:https://members.thecolumbuschamber.com/events/details/51st-annual-waccamaw-siouan-pow-wow-6766
END:VEVENT

END:VCALENDAR
