BEGIN:VCALENDAR
VERSION:2.0
PRODID:-//ChamberMaster//Event Calendar 2.0//EN
METHOD:PUBLISH
X-PUBLISHED-TTL:P3D
REFRESH-INTERVAL:P3D
CALSCALE:GREGORIAN
BEGIN:VEVENT
DTSTART:20260416T220000Z
DTEND:20260416T233000Z
X-MICROSOFT-CDO-ALLDAYEVENT:FALSE
SUMMARY:2nd Annual WOYC Children's Art Show: Artists' Reception
DESCRIPTION:All young artists and their families are invited to the art gallery for an artists' reception to see their work displayed and celebrate their efforts.
X-ALT-DESC;FMTTYPE=text/html:All young artists and their families are invited to the art gallery for an artists&#39\; reception to see their work displayed and celebrate their efforts.&nbsp\;
LOCATION:Columbus County Arts Council
UID:e.2482.7307
SEQUENCE:3
DTSTAMP:20260422T124914Z
URL:https://members.thecolumbuschamber.com/events/details/2nd-annual-woyc-children-s-art-show-artists-reception-7307
END:VEVENT

END:VCALENDAR
