BEGIN:VCALENDAR
VERSION:2.0
PRODID:-//ChamberMaster//Event Calendar 2.0//EN
METHOD:PUBLISH
X-PUBLISHED-TTL:P3D
REFRESH-INTERVAL:P3D
CALSCALE:GREGORIAN
BEGIN:VEVENT
DTSTART;VALUE=DATE:20260409
DTEND;VALUE=DATE:20260424
TRANSP:TRANSPARENT
X-MICROSOFT-CDO-ALLDAYEVENT:TRUE
SUMMARY:2nd Annual WOYC Children's Art Show
DESCRIPTION:Support our local young artists by visiting the art gallery\, where you will see artwork from children ages 0-5\, displayed April 9-23.
X-ALT-DESC;FMTTYPE=text/html:Support our local young artists by visiting the art gallery\, where you will see artwork from children ages 0-5\, displayed April 9-23.&nbsp\;
LOCATION:Columbus County Arts Council
UID:e.2482.7306
SEQUENCE:3
DTSTAMP:20260420T004150Z
URL:https://members.thecolumbuschamber.com/events/details/2nd-annual-woyc-children-s-art-show-7306
END:VEVENT

END:VCALENDAR
