BEGIN:VCALENDAR
VERSION:2.0
PRODID:-//ChamberMaster//Event Calendar 2.0//EN
METHOD:PUBLISH
X-PUBLISHED-TTL:P3D
REFRESH-INTERVAL:P3D
CALSCALE:GREGORIAN
BEGIN:VEVENT
DTSTART:20240413T170000Z
DTEND:20240413T210000Z
X-MICROSOFT-CDO-ALLDAYEVENT:FALSE
SUMMARY:10th Annual Light the Lake
DESCRIPTION:The 10th Annual Light the Lake is a celebration of child abuse prevention marking the 25th anniversary of Foster Care and 20th anniversary of Adoption services at Boys and Girls Homes of NC. Free to attend. Enjoy bouncy houses\, food trucks\, entertainment with Mike's Garage Band\, Bikers Against Child Abuse\, games and prizes at BGHNC Farm in Lake Waccamaw. The Lake Walk begins at 5 p.m. Bring a blanket or a chair and stay all day! Donations benefit BGHNC programs of care.
X-ALT-DESC;FMTTYPE=text/html:The 10th Annual Light the Lake is a celebration of child abuse prevention marking the 25th anniversary of Foster Care and 20th anniversary of Adoption services at Boys and Girls Homes of NC. Free to attend. Enjoy bouncy houses\, food trucks\, entertainment with Mike&#39\;s Garage Band\, Bikers Against Child Abuse\, games and prizes at BGHNC Farm in Lake Waccamaw. The Lake Walk begins at 5 p.m. Bring a blanket or a chair and stay all day! Donations benefit BGHNC programs of care.
LOCATION:Boys and Girls Home Farm in Lake Waccamaw
UID:e.2482.6924
SEQUENCE:3
DTSTAMP:20260421T004341Z
URL:https://members.thecolumbuschamber.com/events/details/10th-annual-light-the-lake-6924
END:VEVENT

END:VCALENDAR
