BEGIN:VCALENDAR
VERSION:2.0
PRODID:-//ChamberMaster//Event Calendar 2.0//EN
METHOD:PUBLISH
X-PUBLISHED-TTL:P3D
REFRESH-INTERVAL:P3D
CALSCALE:GREGORIAN
BEGIN:VEVENT
DTSTART;VALUE=DATE:20230708
DTEND;VALUE=DATE:20230709
TRANSP:TRANSPARENT
X-MICROSOFT-CDO-ALLDAYEVENT:TRUE
SUMMARY:1 Year Bash and Junk Hunt
DESCRIPTION:One Year Bash and Junk Hunt is being held at The Farmers Wife and Company Saturday July 8th. We will have food trucks\, Lemonade stands\, outdoor vendors and so much more. We will have sales throughout the store as well as a give away to give back for supporting us for our first year. We have a few outdoor spots left if you are interested in renting one for the day please contact the store for more information.
X-ALT-DESC;FMTTYPE=text/html:One Year Bash and Junk Hunt is being held at The Farmers Wife and Company Saturday July 8th. We will have food trucks\, Lemonade stands\, outdoor vendors and so much more. We will have sales throughout the store as well as a give away to give back for supporting us for our first year. We have a few outdoor spots left if you are interested in renting one for the day please contact the store for more information.
LOCATION:101 Leslie Newsome Ave Whiteville NC 28472
UID:e.2482.6760
SEQUENCE:3
DTSTAMP:20260421T154556Z
URL:https://members.thecolumbuschamber.com/events/details/1-year-bash-and-junk-hunt-6760
END:VEVENT

END:VCALENDAR
